BEGIN:VCALENDAR
VERSION:2.0
PRODID:icalendar-ruby
CALSCALE:GREGORIAN
METHOD:PUBLISH
BEGIN:VEVENT
DTSTAMP:20260423T102959Z
UID:5-394914@maderaumc.org
DTSTART:20260726T170000Z
DTEND:20260726T180000Z
CLASS:PUBLIC
CREATED:20260413T180009
DESCRIPTION:Sunday Worship
LAST-MODIFIED:20260413T180009
LOCATION:
SUMMARY:Sunday Worship
URL;VALUE=URI:https://maderaumc.org/events/sunday-worship/2026-07-26
END:VEVENT
END:VCALENDAR
