BEGIN:VCALENDAR
VERSION:2.0
PRODID:icalendar-ruby
CALSCALE:GREGORIAN
METHOD:PUBLISH
BEGIN:VEVENT
DTSTAMP:20260423T004951Z
UID:5-394908@maderaumc.org
DTSTART:20260614T170000Z
DTEND:20260614T180000Z
CLASS:PUBLIC
CREATED:20260413T180009
DESCRIPTION:Sunday Worship
LAST-MODIFIED:20260413T180009
LOCATION:
SUMMARY:Sunday Worship
URL;VALUE=URI:https://maderaumc.org/events/sunday-worship/2026-06-14
END:VEVENT
END:VCALENDAR
